BEGIN:VCALENDAR
VERSION:2.0
PRODID:-//ABAA - ECPv6.15.17.1//NONSGML v1.0//EN
CALSCALE:GREGORIAN
METHOD:PUBLISH
X-ORIGINAL-URL:https://airbarrier.org
X-WR-CALDESC:Events for ABAA
REFRESH-INTERVAL;VALUE=DURATION:PT1H
X-Robots-Tag:noindex
X-PUBLISHED-TTL:PT1H
BEGIN:VTIMEZONE
TZID:America/Detroit
BEGIN:DAYLIGHT
TZOFFSETFROM:-0500
TZOFFSETTO:-0400
TZNAME:EDT
DTSTART:20240310T070000
END:DAYLIGHT
BEGIN:STANDARD
TZOFFSETFROM:-0400
TZOFFSETTO:-0500
TZNAME:EST
DTSTART:20241103T060000
END:STANDARD
BEGIN:DAYLIGHT
TZOFFSETFROM:-0500
TZOFFSETTO:-0400
TZNAME:EDT
DTSTART:20250309T070000
END:DAYLIGHT
BEGIN:STANDARD
TZOFFSETFROM:-0400
TZOFFSETTO:-0500
TZNAME:EST
DTSTART:20251102T060000
END:STANDARD
BEGIN:DAYLIGHT
TZOFFSETFROM:-0500
TZOFFSETTO:-0400
TZNAME:EDT
DTSTART:20260308T070000
END:DAYLIGHT
BEGIN:STANDARD
TZOFFSETFROM:-0400
TZOFFSETTO:-0500
TZNAME:EST
DTSTART:20261101T060000
END:STANDARD
END:VTIMEZONE
BEGIN:VEVENT
DTSTART;TZID=America/Detroit:20250305T080000
DTEND;TZID=America/Detroit:20250305T090000
DTSTAMP:20260424T051115
CREATED:20250212T035050Z
LAST-MODIFIED:20250326T002253Z
UID:990000001-1741161600-1741165200@airbarrier.org
SUMMARY:Electronic Leak Detection for Roofing\, Waterproofing\, and the Building Envelope
DESCRIPTION:This one hour course will cover Electronic Leak Detection (ELD) testing methods used for quality assurance of roofing and waterproofing membranes.
URL:https://airbarrier.org/event/electronic-leak-detection-for-roofing-waterproofing-and-the-building-envelope/
LOCATION:FL
CATEGORIES:Training Courses
ATTACH;FMTTYPE=image/jpeg:https://airbarrier.org/wp-content/uploads/2025/02/Electronic-Leak_image.jpg
END:VEVENT
END:VCALENDAR