BEGIN:VCALENDAR
VERSION:2.0
PRODID:-//ABAA - ECPv6.15.17.1//NONSGML v1.0//EN
CALSCALE:GREGORIAN
METHOD:PUBLISH
X-ORIGINAL-URL:https://airbarrier.org
X-WR-CALDESC:Events for ABAA
REFRESH-INTERVAL;VALUE=DURATION:PT1H
X-Robots-Tag:noindex
X-PUBLISHED-TTL:PT1H
BEGIN:VTIMEZONE
TZID:America/Detroit
BEGIN:DAYLIGHT
TZOFFSETFROM:-0500
TZOFFSETTO:-0400
TZNAME:EDT
DTSTART:20240310T070000
END:DAYLIGHT
BEGIN:STANDARD
TZOFFSETFROM:-0400
TZOFFSETTO:-0500
TZNAME:EST
DTSTART:20241103T060000
END:STANDARD
BEGIN:DAYLIGHT
TZOFFSETFROM:-0500
TZOFFSETTO:-0400
TZNAME:EDT
DTSTART:20250309T070000
END:DAYLIGHT
BEGIN:STANDARD
TZOFFSETFROM:-0400
TZOFFSETTO:-0500
TZNAME:EST
DTSTART:20251102T060000
END:STANDARD
BEGIN:DAYLIGHT
TZOFFSETFROM:-0500
TZOFFSETTO:-0400
TZNAME:EDT
DTSTART:20260308T070000
END:DAYLIGHT
BEGIN:STANDARD
TZOFFSETFROM:-0400
TZOFFSETTO:-0500
TZNAME:EST
DTSTART:20261101T060000
END:STANDARD
END:VTIMEZONE
BEGIN:VEVENT
DTSTART;TZID=America/Detroit:20250708T100000
DTEND;TZID=America/Detroit:20250710T163000
DTSTAMP:20260423T133643
CREATED:20250527T194016Z
LAST-MODIFIED:20250527T204153Z
UID:990000054-1751968800-1752165000@airbarrier.org
SUMMARY:Online Self-Adhered & Fluid Applied Installer Certification Training Course
DESCRIPTION:DEADLINE TO REGISTER IS FRIDAY\, JUNE 20\, 2025\nDownload Registration Form \nOnline ABAA Training course \nPhysical installer manuals will be sent out. Those who register early will have a better chance of receiving their manual prior to the start of training. Having the manual for the online training modules is not required\, but highly recommended to have before writing the exam. \n\nDESCRIPTION:\nThis course is designed to teach experienced installers how to create an Air Barrier using Self-Adhered and Fluid Applied materials. This course includes instruction on everything from selecting proper materials\, substrate preparation\, application technology and troubleshooting. \nMore Information \n\n\nNot an Installer? \nABAA courses are open to everyone and are a great training opportunity for all\, including General Contractors\, Suppliers\, Manufacturers sales rep\, Architectural Reps\, and anyone in the construction industry. There is NO experience needed to attend one of our great training courses. \n\nInterested in Certification?\nSelf-Adhered and Fluid Applied installer training is designed to teach experienced installers how to create an Air Barrier using Self Adhered and Fluid Applied materials. This course includes instruction on everything from selecting proper materials\, substrate preparation\, application technology\, troubleshooting and hands-on training. \nFor certification purposes\, a minimum of 3000 hours of work experience either directly with air barriers or in applicable related trade experience is required. \nFor companies seeking to become ABAA Accredited Contractor\, it is ABAA policy that each company has at least 1 person trained in an ABAA Installer Training Course and certified as an ABAA Level 3 Installer\, and at least 1 person trained in the Quality Assurance Program Administrator Course. \n\nQuestions?\nPlease email us at training@airbarrier.org \nSee you there! \nDownload Registration Form \nCOURSE BEGINS TUESDAY\, JULY 8\, 2025 AT 10:00AM ET. IF YOU DO NOT RECEIVE A CONFIRMATION EMAIL WITHIN 3 BUSINESS DAYS OF REGISTERING\, PLEASE CONTACT US DIRECTLY. \nDEADLINE TO REGISTER IS FRIDAY\, JUNE 20\, 2025
URL:https://airbarrier.org/event/online-self-adhered-fluid-applied-installer-certification-training-course-5/
LOCATION:FL
CATEGORIES:Training Courses
ATTACH;FMTTYPE=image/png:https://airbarrier.org/wp-content/uploads/2025/05/Virtual-Courses-v2.png
END:VEVENT
BEGIN:VEVENT
DTSTART;TZID=America/Detroit:20250722T100000
DTEND;TZID=America/Detroit:20250724T163000
DTSTAMP:20260423T133643
CREATED:20250527T202529Z
LAST-MODIFIED:20250722T145731Z
UID:990000062-1753178400-1753374600@airbarrier.org
SUMMARY:Online Field Auditor Training Certification Course
DESCRIPTION:DEADLINE TO REGISTER IS MONDAY\, JULY 7\, 2025\nDownload Registration Form \nOnline ABAA Training course \nPhysical installer manuals will be sent out. Those who register early will have a better chance of receiving their manual prior to the start of training. Having the manual for the online training modules is not required\, but highly recommended to have before writing the exam. \n\nDESCRIPTION:\nThis course emphasizes understanding the need for and function of an air barrier assembly\, the ability to inspect installation and review materials for compliance with specifications\, ABAA requirements\, and manufacturer requirements\, the ability to confirm proper installation through on-site testing\, and the documentation required throughout the air barrier installation process. \nMore Information \n\n\nNot an Auditor? \nABAA courses are open to everyone and are a great training opportunity for all\, including General Contractors\, Suppliers\, Manufacturers sales rep\, Architectural Reps\, and anyone in the construction industry. There is NO experience needed to attend one of our great training courses. \n\nInterested in performing ABAA project audits?\nPlease contact the ABAA office for details at abaa@airbarrier.org \n\nQuestions?\nPlease email us at training@airbarrier.org \nSee you there! \nDownload Registration Form \nCOURSE BEGINS TUESDAY\, JULY 22\, 2025 AT 10:00AM ET. IF YOU DO NOT RECEIVE A CONFIRMATION EMAIL WITHIN 3 BUSINESS DAYS OF REGISTERING\, PLEASE CONTACT US DIRECTLY. \nDEADLINE TO REGISTER IS MONDAY\, JULY 7\, 2025
URL:https://airbarrier.org/event/online-field-auditor-training-certification-course/
LOCATION:FL
CATEGORIES:Training Courses
ATTACH;FMTTYPE=image/png:https://airbarrier.org/wp-content/uploads/2025/07/Virtual-Courses.png
END:VEVENT
END:VCALENDAR